BEGIN:VCALENDAR
VERSION:2.0
PRODID:-//ZContent.net//ZapCalLib 1.0//EN
CALSCALE:GREGORIAN
METHOD:PUBLISH
BEGIN:VEVENT
SUMMARY:Brasilien nach dem ersten Wahlgang | Ist ein Sieg der extremen Rech
 ten noch zu verhindern?
DTSTART:20181018T183000
DTEND:20181018T203000
UID:2026-04-24-02-47-53-0-@calendar.boell.de
DTSTAMP:20260424T004753
DESCRIPTION:â–¶ Siehe Veranstaltungsbeschreibung â€“ Berlin â€“ Heinrich-BÃ
 ¶ll-Stiftung - Bundesstiftung Berlin
END:VEVENT
END:VCALENDAR
