BEGIN:VCALENDAR
VERSION:2.0
PRODID:-//ZContent.net//ZapCalLib 1.0//EN
CALSCALE:GREGORIAN
METHOD:PUBLISH
BEGIN:VEVENT
SUMMARY:“Wir wollen nur das Leben”. Über Verlust, Erinnerung, Hoffnung
  | Lesung mit Omar al-Jaffal und Kristine Bilkau
DTSTART:20190218T193000
DTEND:20190218T210000
UID:2026-04-24-07-00-35-0-@calendar.boell.de
DTSTAMP:20260424T050035
DESCRIPTION:Berlin – Gunda-Werner-Institut für Feminismus und Geschlecht
 erdemokratie
END:VEVENT
END:VCALENDAR
