BEGIN:VCALENDAR
VERSION:2.0
PRODID:-//ZContent.net//ZapCalLib 1.0//EN
CALSCALE:GREGORIAN
METHOD:PUBLISH
BEGIN:VEVENT
SUMMARY:Körper-, Stimm- und Sprechtraining - Der gelungene Auftritt | Fit 
 for Politics 2019 | Politikmanagement - Qualifizierungsseminare
DTSTART:20190830T150000
DTEND:20190831T173000
UID:2026-04-24-02-47-36-0-@calendar.boell.de
DTSTAMP:20260424T004736
DESCRIPTION:▶ Siehe Veranstaltungsbeschreibung – Hannover – Stiftung 
 Leben & Umwelt / Heinrich-Böll-Stiftung Niedersachsen
END:VEVENT
END:VCALENDAR
