BEGIN:VCALENDAR
VERSION:2.0
PRODID:-//ZContent.net//ZapCalLib 1.0//EN
CALSCALE:GREGORIAN
METHOD:PUBLISH
BEGIN:VEVENT
SUMMARY:Unsere Grüne Woche 2019: Der Tod in stillen Winkeln des Lebens | L
 andraub in Rumänien - Lesung mit Krimiautor Oliver Bottini
DTSTART:20190116T190000
DTEND:20190116T210000
UID:2026-04-22-01-39-05-0-@calendar.boell.de
DTSTAMP:20260421T233905
DESCRIPTION:Heinrich-Böll-Stiftung - Bundesstiftung Berlin – Berlin – 
 Heinrich-Böll-Stiftung - Bundesstiftung Berlin
END:VEVENT
END:VCALENDAR
