BEGIN:VCALENDAR
VERSION:2.0
PRODID:-//ZContent.net//ZapCalLib 1.0//EN
CALSCALE:GREGORIAN
METHOD:PUBLISH
BEGIN:VEVENT
SUMMARY:Unsere Grüne Woche 2019: Nach dem Hype – Und wie retten wir jetz
 t die Insekten?
DTSTART:20190117T180000
DTEND:20190117T210000
UID:2026-04-22-01-39-03-0-@calendar.boell.de
DTSTAMP:20260421T233903
DESCRIPTION:Heinrich-Böll-Stiftung - Bundesstiftung Berlin – Berlin – 
 Heinrich-Böll-Stiftung - Bundesstiftung Berlin
END:VEVENT
END:VCALENDAR
