BEGIN:VCALENDAR
VERSION:2.0
PRODID:-//ZContent.net//ZapCalLib 1.0//EN
CALSCALE:GREGORIAN
METHOD:PUBLISH
BEGIN:VEVENT
SUMMARY:Unsere Grüne Woche 2019: Soup & Talk | Der Politische Suppentopf -
  Nach der Demo ist vor der Aktion!
DTSTART:20190119T120000
DTEND:20190119T180000
UID:2026-04-22-01-39-04-0-@calendar.boell.de
DTSTAMP:20260421T233904
DESCRIPTION:Heinrich-Böll-Stiftung - Bundesstiftung Berlin – Berlin – 
 Heinrich-Böll-Stiftung - Bundesstiftung Berlin
END:VEVENT
END:VCALENDAR
