BEGIN:VCALENDAR
VERSION:2.0
PRODID:-//ZContent.net//ZapCalLib 1.0//EN
CALSCALE:GREGORIAN
METHOD:PUBLISH
BEGIN:VEVENT
SUMMARY:Lesekreis: "Was ist Kapitalismus?" | 1. Sitzung
DTSTART:20190124T190000
DTEND:20190124T213000
UID:2026-04-24-08-45-20-0-@calendar.boell.de
DTSTAMP:20260424T064520
DESCRIPTION:▶ Siehe Veranstaltungsbeschreibung – Berlin – Landesstift
 ung Berlin (Bildungswerk)
END:VEVENT
END:VCALENDAR
