BEGIN:VCALENDAR
VERSION:2.0
PRODID:-//ZContent.net//ZapCalLib 1.0//EN
CALSCALE:GREGORIAN
METHOD:PUBLISH
BEGIN:VEVENT
SUMMARY:Hoffnung für die Menschenrechte in Mexiko? | Erwartungen an die ne
 ue Regierung López Obrador
DTSTART:20190329T090000
DTEND:20190329T183000
UID:2026-04-23-09-19-37-0-@calendar.boell.de
DTSTAMP:20260423T071937
DESCRIPTION:Heinrich-Böll-Stiftung - Bundesstiftung Berlin – Berlin – 
 Heinrich-Böll-Stiftung - Bundesstiftung Berlin
END:VEVENT
END:VCALENDAR
