BEGIN:VCALENDAR
VERSION:2.0
PRODID:-//ZContent.net//ZapCalLib 1.0//EN
CALSCALE:GREGORIAN
METHOD:PUBLISH
BEGIN:VEVENT
SUMMARY:Kritische Perspektiven auf die Digitalisierung in Städten
DTSTART:20190613T190000
DTEND:20190613T213000
UID:2026-04-21-19-14-12-0-@calendar.boell.de
DTSTAMP:20260421T171412
DESCRIPTION:▶ Siehe Veranstaltungsbeschreibung – Berlin – Landesstift
 ung Berlin (Bildungswerk)
END:VEVENT
END:VCALENDAR
