BEGIN:VCALENDAR
VERSION:2.0
PRODID:-//ZContent.net//ZapCalLib 1.0//EN
CALSCALE:GREGORIAN
METHOD:PUBLISH
BEGIN:VEVENT
SUMMARY:Wildnistrail (ausgebucht/Warteliste) | Naturschutzkonzepte und Regi
 onalentwicklung am Beispiel des Wildnistrail im Nationalpark-Eifel
DTSTART:20200914T103000
DTEND:20200918T160000
UID:2026-04-21-22-27-31-0-@calendar.boell.de
DTSTAMP:20260421T202731
DESCRIPTION:▶ Siehe Veranstaltungsbeschreibung – Landesstiftung Nordrhe
 in-Westfalen
END:VEVENT
END:VCALENDAR
