BEGIN:VCALENDAR
VERSION:2.0
PRODID:-//ZContent.net//ZapCalLib 1.0//EN
CALSCALE:GREGORIAN
METHOD:PUBLISH
BEGIN:VEVENT
SUMMARY:Copenhagenize! (ausgebucht/Warteliste) | Grüne Zukunft, Lebensqual
 ität und urbane Innovationen.
DTSTART:20200823T160000
DTEND:20200828T140000
UID:2026-04-20-05-22-38-0-@calendar.boell.de
DTSTAMP:20260420T032238
DESCRIPTION:▶ Siehe Veranstaltungsbeschreibung – Landesstiftung Nordrhe
 in-Westfalen
END:VEVENT
END:VCALENDAR
