BEGIN:VCALENDAR
VERSION:2.0
PRODID:-//ZContent.net//ZapCalLib 1.0//EN
CALSCALE:GREGORIAN
METHOD:PUBLISH
BEGIN:VEVENT
SUMMARY:Von Hannah Arendt lernen – Politik, Freiheit, Demokratie
DTSTART:20191128T190000
DTEND:20191128T220000
UID:2026-04-24-01-57-17-0-@calendar.boell.de
DTSTAMP:20260423T235717
DESCRIPTION:Hannover – Stiftung Leben & Umwelt / Heinrich-Böll-Stiftung 
 Niedersachsen
END:VEVENT
END:VCALENDAR
