BEGIN:VCALENDAR
VERSION:2.0
PRODID:-//ZContent.net//ZapCalLib 1.0//EN
CALSCALE:GREGORIAN
METHOD:PUBLISH
BEGIN:VEVENT
SUMMARY:Vom Umgang mit Diskriminierung in heterogenen Gruppen | Keine Angst
  vor Kritik!?
DTSTART:20200208T100000
DTEND:20200209T160000
UID:2026-04-21-03-08-49-0-@calendar.boell.de
DTSTAMP:20260421T010849
DESCRIPTION:▶ Siehe Veranstaltungsbeschreibung – Berlin – Landesstift
 ung Berlin (Bildungswerk)
END:VEVENT
END:VCALENDAR
