BEGIN:VCALENDAR
VERSION:2.0
PRODID:-//ZContent.net//ZapCalLib 1.0//EN
CALSCALE:GREGORIAN
METHOD:PUBLISH
BEGIN:VEVENT
SUMMARY:Wildnistrail | Naturschutzkonzepte und Regionalentwicklung am Beisp
 iel des Wildnistrail im Nationalpark-Eifel
DTSTART:20200921T103000
DTEND:20200925T160000
UID:2026-04-21-10-08-36-0-@calendar.boell.de
DTSTAMP:20260421T080836
DESCRIPTION:▶ Siehe Veranstaltungsbeschreibung – Landesstiftung Nordrhe
 in-Westfalen
END:VEVENT
END:VCALENDAR
