BEGIN:VCALENDAR
VERSION:2.0
PRODID:-//ZContent.net//ZapCalLib 1.0//EN
CALSCALE:GREGORIAN
METHOD:PUBLISH
BEGIN:VEVENT
SUMMARY:Online-Seminar: Resilienz - Stark sein in stürmischen Zeiten (Wart
 eliste)
DTSTART:20200520T180000
DTEND:20200520T191500
UID:2026-04-22-00-06-40-0-@calendar.boell.de
DTSTAMP:20260421T220640
DESCRIPTION:▶ Siehe Veranstaltungsbeschreibung – GreenCampus
END:VEVENT
END:VCALENDAR
