BEGIN:VCALENDAR
VERSION:2.0
PRODID:-//ZContent.net//ZapCalLib 1.0//EN
CALSCALE:GREGORIAN
METHOD:PUBLISH
BEGIN:VEVENT
SUMMARY:Connecting throughout the World - Roma gegen Rassismus | Roma in de
 r Corona-Krise #leavenoonebehind
DTSTART:20200508T200000
DTEND:20200508T213000
UID:2026-04-21-15-23-06-0-@calendar.boell.de
DTSTAMP:20260421T132306
DESCRIPTION:▶ Online-Veranstaltung – Landesstiftung Sachsen (Weiterdenk
 en)
END:VEVENT
END:VCALENDAR
