BEGIN:VCALENDAR
VERSION:2.0
PRODID:-//ZContent.net//ZapCalLib 1.0//EN
CALSCALE:GREGORIAN
METHOD:PUBLISH
BEGIN:VEVENT
SUMMARY:Armin Nassehi: "Das große Nein" | Eigendynamik und Tragik des gese
 llschaftlichen Protestes
DTSTART:20200529T180000
DTEND:20200529T193000
UID:2026-04-22-22-12-17-0-@calendar.boell.de
DTSTAMP:20260422T201217
DESCRIPTION:▶ Siehe Veranstaltungsbeschreibung – Landesstiftung Nordrhe
 in-Westfalen
END:VEVENT
END:VCALENDAR
