BEGIN:VCALENDAR
VERSION:2.0
PRODID:-//ZContent.net//ZapCalLib 1.0//EN
CALSCALE:GREGORIAN
METHOD:PUBLISH
BEGIN:VEVENT
SUMMARY:Corona und globale Lieferketten | Böll Zoom 
DTSTART:20200714T190000
DTEND:20200714T203000
UID:2026-04-21-15-22-38-0-@calendar.boell.de
DTSTAMP:20260421T132238
DESCRIPTION:▶ Siehe Veranstaltungsbeschreibung – Landesstiftung Hessen
END:VEVENT
END:VCALENDAR
