BEGIN:VCALENDAR
VERSION:2.0
PRODID:-//ZContent.net//ZapCalLib 1.0//EN
CALSCALE:GREGORIAN
METHOD:PUBLISH
BEGIN:VEVENT
SUMMARY:Stuttgart nach den Krawallen - Erklärungen aus der Konfliktforschu
 ng | Online-Gespräch mit Diskussion
DTSTART:20200721T180000
DTEND:20200721T190000
UID:2026-04-21-11-35-09-0-@calendar.boell.de
DTSTAMP:20260421T093509
DESCRIPTION:▶ Siehe Veranstaltungsbeschreibung – Heinrich Böll Stiftun
 g Baden-Württemberg
END:VEVENT
END:VCALENDAR
