BEGIN:VCALENDAR
VERSION:2.0
PRODID:-//ZContent.net//ZapCalLib 1.0//EN
CALSCALE:GREGORIAN
METHOD:PUBLISH
BEGIN:VEVENT
SUMMARY:Mafia, bei uns?!  | Deutschland, Oase für Geldwäsche
DTSTART:20201009T200000
DTEND:20201009T220000
UID:2026-04-21-23-40-45-0-@calendar.boell.de
DTSTAMP:20260421T214045
DESCRIPTION:▶ Siehe Veranstaltungsbeschreibung – Heidelberg – Heinric
 h Böll Stiftung Baden-Württemberg
END:VEVENT
END:VCALENDAR
