BEGIN:VCALENDAR
VERSION:2.0
PRODID:-//ZContent.net//ZapCalLib 1.0//EN
CALSCALE:GREGORIAN
METHOD:PUBLISH
BEGIN:VEVENT
SUMMARY:Füreinander – vor Ort – für die Zukunft | Soziale Innovatione
 n in Zeiten von Corona
DTSTART:20200806T090000
DTEND:20200806T103000
UID:2026-04-22-01-15-15-0-@calendar.boell.de
DTSTAMP:20260421T231515
DESCRIPTION:▶ Siehe Veranstaltungsbeschreibung – Heinrich Böll Stiftun
 g Baden-Württemberg
END:VEVENT
END:VCALENDAR
