BEGIN:VCALENDAR
VERSION:2.0
PRODID:-//ZContent.net//ZapCalLib 1.0//EN
CALSCALE:GREGORIAN
METHOD:PUBLISH
BEGIN:VEVENT
SUMMARY:Insektensterben: Folgen für Mensch und Umwelt | Visionen der Bioö
 konomie - internationales literaturfestival berlin
DTSTART:20200913T160000
DTEND:20200913T173000
UID:2026-04-20-05-22-41-0-@calendar.boell.de
DTSTAMP:20260420T032241
DESCRIPTION:▶ Siehe Veranstaltungsbeschreibung – Berlin – Externe Ver
 anstaltung
END:VEVENT
END:VCALENDAR
