BEGIN:VCALENDAR
VERSION:2.0
PRODID:-//ZContent.net//ZapCalLib 1.0//EN
CALSCALE:GREGORIAN
METHOD:PUBLISH
BEGIN:VEVENT
SUMMARY:Erzählcafé „Runde Tische, das Ringen um eine Verfassung und vie
 l Wahlkampf – das letzte Jahr der DDR“
DTSTART:20201015T170000
DTEND:20201015T190000
UID:2026-04-19-21-25-15-0-@calendar.boell.de
DTSTAMP:20260419T192515
DESCRIPTION:▶ Siehe Veranstaltungsbeschreibung – Schwerin – Landessti
 ftung Mecklenburg-Vorpommern
END:VEVENT
END:VCALENDAR
