BEGIN:VCALENDAR
VERSION:2.0
PRODID:-//ZContent.net//ZapCalLib 1.0//EN
CALSCALE:GREGORIAN
METHOD:PUBLISH
BEGIN:VEVENT
SUMMARY:Stefan Zweig  | Das politische Buch
DTSTART:20201012T190000
DTEND:20201012T203000
UID:2026-04-22-01-38-53-0-@calendar.boell.de
DTSTAMP:20260421T233853
DESCRIPTION:▶ Online-Veranstaltung – Heinrich-Böll-Stiftung Paris - Fr
 ankreich | Italien
END:VEVENT
END:VCALENDAR
