BEGIN:VCALENDAR
VERSION:2.0
PRODID:-//ZContent.net//ZapCalLib 1.0//EN
CALSCALE:GREGORIAN
METHOD:PUBLISH
BEGIN:VEVENT
SUMMARY:Umgang mit rechten Parolen | Dreiteiliges Online-Seminar
DTSTART:20201102T163000
DTEND:20201102T181500
UID:2026-04-21-20-00-04-0-@calendar.boell.de
DTSTAMP:20260421T180004
DESCRIPTION:▶ Siehe Veranstaltungsbeschreibung – Heinrich Böll Stiftun
 g Baden-Württemberg
END:VEVENT
END:VCALENDAR
