BEGIN:VCALENDAR
VERSION:2.0
PRODID:-//ZContent.net//ZapCalLib 1.0//EN
CALSCALE:GREGORIAN
METHOD:PUBLISH
BEGIN:VEVENT
SUMMARY:Üben für die sozial-ökologische Transformation? | Umweltpsycholo
 gische Blicke auf die Corona- und die Klimakrise
DTSTART:20201112T193000
DTEND:20201112T203000
UID:2026-04-20-03-21-38-0-@calendar.boell.de
DTSTAMP:20260420T012138
DESCRIPTION:▶ Online-Veranstaltung – Heinrich Böll Stiftung Baden-Wür
 ttemberg
END:VEVENT
END:VCALENDAR
