BEGIN:VCALENDAR
VERSION:2.0
PRODID:-//ZContent.net//ZapCalLib 1.0//EN
CALSCALE:GREGORIAN
METHOD:PUBLISH
BEGIN:VEVENT
SUMMARY:Postpandemisches Theater | Die Krise der Versammlung
DTSTART:20201111T203000
DTEND:20201111T220000
UID:2026-04-24-08-45-21-0-@calendar.boell.de
DTSTAMP:20260424T064521
DESCRIPTION:▶ Livestream auf boell.de/stream – Externe Veranstaltung
END:VEVENT
END:VCALENDAR
