BEGIN:VCALENDAR
VERSION:2.0
PRODID:-//ZContent.net//ZapCalLib 1.0//EN
CALSCALE:GREGORIAN
METHOD:PUBLISH
BEGIN:VEVENT
SUMMARY:Digital Financing of the UN’s Sustainable Development Goals | Vor
 trag und Diskussion auf Englisch
DTSTART:20201112T170000
DTEND:20201112T190000
UID:2026-04-21-19-14-09-0-@calendar.boell.de
DTSTAMP:20260421T171409
DESCRIPTION:▶ Siehe Veranstaltungsbeschreibung – Heinrich Böll Stiftun
 g Baden-Württemberg
END:VEVENT
END:VCALENDAR
