BEGIN:VCALENDAR
VERSION:2.0
PRODID:-//ZContent.net//ZapCalLib 1.0//EN
CALSCALE:GREGORIAN
METHOD:PUBLISH
BEGIN:VEVENT
SUMMARY:Postpandemisches Theater | Nach der Pandemie? Vom Theater der Zukun
 ft
DTSTART:20201113T203000
DTEND:20201113T220000
UID:2026-04-24-02-48-09-0-@calendar.boell.de
DTSTAMP:20260424T004809
DESCRIPTION:▶ Livestream auf boell.de/stream – Externe Veranstaltung
END:VEVENT
END:VCALENDAR
