BEGIN:VCALENDAR
VERSION:2.0
PRODID:-//ZContent.net//ZapCalLib 1.0//EN
CALSCALE:GREGORIAN
METHOD:PUBLISH
BEGIN:VEVENT
SUMMARY:AUSGEBUCHT Einführung in die Tiefenökologie | Dem Chaos begegnen 
 ohne verrückt zu werden (Präsenz-Seminar)
DTSTART:20210903T093000
DTEND:20210903T170000
UID:2026-04-21-22-26-29-0-@calendar.boell.de
DTSTAMP:20260421T202629
DESCRIPTION:▶ Siehe Veranstaltungsbeschreibung – Landesstiftung Hamburg
END:VEVENT
END:VCALENDAR
