BEGIN:VCALENDAR
VERSION:2.0
PRODID:-//ZContent.net//ZapCalLib 1.0//EN
CALSCALE:GREGORIAN
METHOD:PUBLISH
BEGIN:VEVENT
SUMMARY:Netz <> Werk! | Eine Konferenz des Kölner Frauen-Filmnetzwerk LaDO
 C 
DTSTART:20210305T190000
DTEND:20210305T203000
UID:2026-04-21-10-08-50-0-@calendar.boell.de
DTSTAMP:20260421T080850
DESCRIPTION:▶ Online-Veranstaltung – Externe Veranstaltung
END:VEVENT
BEGIN:VEVENT
SUMMARY:Netz <> Werk! | Eine Konferenz des Kölner Frauen-Filmnetzwerk LaDO
 C 
DTSTART:20210306T123000
DTEND:20210306T203000
UID:2026-04-21-08-08-50-1-@calendar.boell.de
DTSTAMP:20260421T080850
DESCRIPTION:▶ Online-Veranstaltung – Externe Veranstaltung
END:VEVENT
BEGIN:VEVENT
SUMMARY:Netz <> Werk! | Eine Konferenz des Kölner Frauen-Filmnetzwerk LaDO
 C 
DTSTART:20210307T140000
DTEND:20210307T203000
UID:2026-04-21-08-08-50-2-@calendar.boell.de
DTSTAMP:20260421T080850
DESCRIPTION:▶ Online-Veranstaltung – Externe Veranstaltung
END:VEVENT
END:VCALENDAR
