BEGIN:VCALENDAR
VERSION:2.0
PRODID:-//ZContent.net//ZapCalLib 1.0//EN
CALSCALE:GREGORIAN
METHOD:PUBLISH
BEGIN:VEVENT
SUMMARY:Der NSU. Das Trauma eines Landes.  | Ausstellung - virtuell und liv
 e - im Rahmen des Jahresprojekts für Courage und Demokratie in Eisenach
DTSTART:20210416T180000
DTEND:20210613T220000
UID:2026-04-21-10-08-53-0-@calendar.boell.de
DTSTAMP:20260421T080853
DESCRIPTION:▶ Siehe Veranstaltungsbeschreibung – Eisenach – Landessti
 ftung Thüringen
END:VEVENT
END:VCALENDAR
