BEGIN:VCALENDAR
VERSION:2.0
PRODID:-//ZContent.net//ZapCalLib 1.0//EN
CALSCALE:GREGORIAN
METHOD:PUBLISH
BEGIN:VEVENT
SUMMARY:„Grüne Fakten to Go“ | Schaufenster-Ausstellung in Rostock
DTSTART:20210313T100000
DTEND:20210410T100000
UID:2026-04-21-23-40-44-0-@calendar.boell.de
DTSTAMP:20260421T214044
DESCRIPTION:▶ Siehe Veranstaltungsbeschreibung – Rostock – Landesstif
 tung Mecklenburg-Vorpommern
END:VEVENT
END:VCALENDAR
