BEGIN:VCALENDAR
VERSION:2.0
PRODID:-//ZContent.net//ZapCalLib 1.0//EN
CALSCALE:GREGORIAN
METHOD:PUBLISH
BEGIN:VEVENT
SUMMARY:Diskriminierungssensible Sprache – fragen, verstehen, anwenden! |
  Warteliste | Interaktiver Online-Workshop
DTSTART:20210722T170000
DTEND:20210722T200000
UID:2026-04-21-18-29-06-0-@calendar.boell.de
DTSTAMP:20260421T162906
DESCRIPTION:▶ Online-Veranstaltung – Heinrich Böll Stiftung Baden-Wür
 ttemberg
END:VEVENT
END:VCALENDAR
