BEGIN:VCALENDAR
VERSION:2.0
PRODID:-//ZContent.net//ZapCalLib 1.0//EN
CALSCALE:GREGORIAN
METHOD:PUBLISH
BEGIN:VEVENT
SUMMARY:Empowerment-Workshop | Umgang mit Rassismus im Alltag
DTSTART:20210904T100000
DTEND:20210904T170000
UID:2026-04-22-03-25-50-0-@calendar.boell.de
DTSTAMP:20260422T012550
DESCRIPTION:▶ Siehe Veranstaltungsbeschreibung – 
END:VEVENT
END:VCALENDAR
