BEGIN:VCALENDAR
VERSION:2.0
PRODID:-//ZContent.net//ZapCalLib 1.0//EN
CALSCALE:GREGORIAN
METHOD:PUBLISH
BEGIN:VEVENT
SUMMARY:Empowerment-Workshop | Umgang mit Rassismus im Alltag
DTSTART:20210918T100000
DTEND:20210918T170000
UID:2026-04-21-10-34-52-0-@calendar.boell.de
DTSTAMP:20260421T083452
DESCRIPTION:▶ Siehe Veranstaltungsbeschreibung – 
END:VEVENT
END:VCALENDAR
