BEGIN:VCALENDAR
VERSION:2.0
PRODID:-//ZContent.net//ZapCalLib 1.0//EN
CALSCALE:GREGORIAN
METHOD:PUBLISH
BEGIN:VEVENT
SUMMARY:GAU macht schlau? Teil 2 | 35 Jahren nach Tschernobyl
DTSTART:20210426T190000
DTEND:20210426T210000
UID:2026-04-26-06-15-30-0-@calendar.boell.de
DTSTAMP:20260426T041530
DESCRIPTION:▶ Online-Veranstaltung – Bremen – Landesstiftung Bremen
END:VEVENT
END:VCALENDAR
