BEGIN:VCALENDAR
VERSION:2.0
PRODID:-//ZContent.net//ZapCalLib 1.0//EN
CALSCALE:GREGORIAN
METHOD:PUBLISH
BEGIN:VEVENT
SUMMARY:Methoden für Webinare, Workshops und Online-Meetings | Warteliste 
 | Aufbau-Workshop für Personen mit ersten Kenntnissen in Online-Veranstal
 tungen
DTSTART:20210623T163000
DTEND:20210623T200000
UID:2026-04-19-18-43-49-0-@calendar.boell.de
DTSTAMP:20260419T164349
DESCRIPTION:▶ Online-Veranstaltung – Heinrich Böll Stiftung Baden-Wür
 ttemberg
END:VEVENT
END:VCALENDAR
