BEGIN:VCALENDAR
VERSION:2.0
PRODID:-//ZContent.net//ZapCalLib 1.0//EN
CALSCALE:GREGORIAN
METHOD:PUBLISH
BEGIN:VEVENT
SUMMARY:Rechte Frauen: Alltag. Politik. Ehrenamt.
DTSTART:20210531T190000
DTEND:20210531T210000
UID:2026-04-21-23-40-43-0-@calendar.boell.de
DTSTAMP:20260421T214043
DESCRIPTION:▶ Online-Veranstaltung – Hamburg – Landesstiftung Hamburg
END:VEVENT
END:VCALENDAR
