BEGIN:VCALENDAR
VERSION:2.0
PRODID:-//ZContent.net//ZapCalLib 1.0//EN
CALSCALE:GREGORIAN
METHOD:PUBLISH
BEGIN:VEVENT
SUMMARY:Boden, Bauen und Wohnen demokratisch gestalten | GemeinGutStadt
DTSTART:20210611T090000
DTEND:20210611T131500
UID:2026-04-21-23-40-39-0-@calendar.boell.de
DTSTAMP:20260421T214039
DESCRIPTION:▶ Online-Veranstaltung – Externe Veranstaltung
END:VEVENT
END:VCALENDAR
