BEGIN:VCALENDAR
VERSION:2.0
PRODID:-//ZContent.net//ZapCalLib 1.0//EN
CALSCALE:GREGORIAN
METHOD:PUBLISH
BEGIN:VEVENT
SUMMARY:Weimar for Future  | Gespräche zu den kulturellen Dimensionen von 
 Klimakrise und sozial-ökologischer Transformation
DTSTART:20210625T130000
DTEND:20210625T213000
UID:2026-04-21-15-22-31-0-@calendar.boell.de
DTSTAMP:20260421T132231
DESCRIPTION:▶ Siehe Veranstaltungsbeschreibung – Weimar – 
END:VEVENT
END:VCALENDAR
