BEGIN:VCALENDAR
VERSION:2.0
PRODID:-//ZContent.net//ZapCalLib 1.0//EN
CALSCALE:GREGORIAN
METHOD:PUBLISH
BEGIN:VEVENT
SUMMARY:In der Politik sind alle wichtig (ausgebucht/Warteliste) | Wie funk
 tioniert Politik? Was hat Politik mit mir zu tun? Wie kann ich selber Poli
 tik machen?
DTSTART:20210630T150000
DTEND:20210630T180000
UID:2026-04-21-19-14-20-0-@calendar.boell.de
DTSTAMP:20260421T171420
DESCRIPTION:▶ Siehe Veranstaltungsbeschreibung – Düsseldorf – Landes
 stiftung Nordrhein-Westfalen
END:VEVENT
END:VCALENDAR
