BEGIN:VCALENDAR
VERSION:2.0
PRODID:-//ZContent.net//ZapCalLib 1.0//EN
CALSCALE:GREGORIAN
METHOD:PUBLISH
BEGIN:VEVENT
SUMMARY:Notwendige Zumutung oder rettende Vision? Die sozial-ökologische T
 ransformation vor Ort   | Grüner Salon
DTSTART:20210713T193000
DTEND:20210713T210000
UID:2026-04-21-20-00-03-0-@calendar.boell.de
DTSTAMP:20260421T180003
DESCRIPTION:▶ Siehe Veranstaltungsbeschreibung – Stiftung Leben & Umwel
 t / Heinrich-Böll-Stiftung Niedersachsen
END:VEVENT
END:VCALENDAR
