BEGIN:VCALENDAR
VERSION:2.0
PRODID:-//ZContent.net//ZapCalLib 1.0//EN
CALSCALE:GREGORIAN
METHOD:PUBLISH
BEGIN:VEVENT
SUMMARY:Abwehr und Aneignung | Auseinandersetzung mit dem Nationalsozialism
 us nach 1945 – und heute?
DTSTART:20210813T170000
DTEND:20210815T140000
UID:2026-04-20-03-21-41-0-@calendar.boell.de
DTSTAMP:20260420T012141
DESCRIPTION:▶ Siehe Veranstaltungsbeschreibung – 
END:VEVENT
END:VCALENDAR
