BEGIN:VCALENDAR
VERSION:2.0
PRODID:-//ZContent.net//ZapCalLib 1.0//EN
CALSCALE:GREGORIAN
METHOD:PUBLISH
BEGIN:VEVENT
SUMMARY:The Future of Code Politics | Themenschwerpunkt auf dem Internation
 alen Sommerfestival Kampnagel
DTSTART:20210813T180000
DTEND:20210815T193000
UID:2026-04-22-13-43-18-0-@calendar.boell.de
DTSTAMP:20260422T114318
DESCRIPTION:▶ Siehe Veranstaltungsbeschreibung – Hamburg – Externe Ve
 ranstaltung
END:VEVENT
END:VCALENDAR
