BEGIN:VCALENDAR
VERSION:2.0
PRODID:-//ZContent.net//ZapCalLib 1.0//EN
CALSCALE:GREGORIAN
METHOD:PUBLISH
BEGIN:VEVENT
SUMMARY:KitchenTalk: Cash Cow - Regionale Finanzierungsmodelle
DTSTART:20210717T180000
DTEND:20210717T210000
UID:2026-04-21-11-34-37-0-@calendar.boell.de
DTSTAMP:20260421T093437
DESCRIPTION:▶ Siehe Veranstaltungsbeschreibung – Dresden – Landesstif
 tung Sachsen (Weiterdenken)
END:VEVENT
END:VCALENDAR
