BEGIN:VCALENDAR
VERSION:2.0
PRODID:-//ZContent.net//ZapCalLib 1.0//EN
CALSCALE:GREGORIAN
METHOD:PUBLISH
BEGIN:VEVENT
SUMMARY:KitchenTalk: Eating Trash - Kreisläufe schließen
DTSTART:20210904T160000
DTEND:20210904T190000
UID:2026-04-21-23-53-56-0-@calendar.boell.de
DTSTAMP:20260421T215356
DESCRIPTION:▶ Siehe Veranstaltungsbeschreibung – Dresden – Landesstif
 tung Sachsen (Weiterdenken)
END:VEVENT
END:VCALENDAR
