BEGIN:VCALENDAR
VERSION:2.0
PRODID:-//ZContent.net//ZapCalLib 1.0//EN
CALSCALE:GREGORIAN
METHOD:PUBLISH
BEGIN:VEVENT
SUMMARY:Reisegesellschaft - Auf der Suche nach dem Grünen Ring  | Wanderun
 g um Leipzig in 7 Tagen
DTSTART:20210815T100000
DTEND:20210822T180000
UID:2026-04-21-19-14-17-0-@calendar.boell.de
DTSTAMP:20260421T171417
DESCRIPTION:▶ Siehe Veranstaltungsbeschreibung – Leipzig – Landesstif
 tung Sachsen (Weiterdenken)
END:VEVENT
END:VCALENDAR
