BEGIN:VCALENDAR
VERSION:2.0
PRODID:-//ZContent.net//ZapCalLib 1.0//EN
CALSCALE:GREGORIAN
METHOD:PUBLISH
BEGIN:VEVENT
SUMMARY:Ungleichheit im 21. Jahrhundert - Risse in der Gesellschaft
DTSTART:20211016T110000
DTEND:20211017T150000
UID:2026-04-22-12-22-22-0-@calendar.boell.de
DTSTAMP:20260422T102222
DESCRIPTION:▶ Siehe Veranstaltungsbeschreibung – Berlin – Landesstift
 ung Berlin (Bildungswerk)
END:VEVENT
END:VCALENDAR
