BEGIN:VCALENDAR
VERSION:2.0
PRODID:-//ZContent.net//ZapCalLib 1.0//EN
CALSCALE:GREGORIAN
METHOD:PUBLISH
BEGIN:VEVENT
SUMMARY:Meinen und Urteilen in der (digitalisierten) Welt | Podiumsdebatte 
 des Vereins Hannah-Ahrendt-Preis für politisches Denken e.V.
DTSTART:20210911T110000
DTEND:20210911T140000
UID:2026-04-20-11-03-31-0-@calendar.boell.de
DTSTAMP:20260420T090331
DESCRIPTION:▶ Siehe Veranstaltungsbeschreibung – Bremen – Landesstift
 ung Bremen
END:VEVENT
END:VCALENDAR
